BEGIN:VCALENDAR
VERSION:2.0
PRODID:-//eventon.com NONSGML v1.0//EN
CALSCALE:GREGORIAN
METHOD:PUBLISH
BEGIN:VEVENT
UID:69e9f261ef989
DTSTAMP:20260423T102017Z
DTSTART:20231209T060000Z
DTEND:20231209T130000Z
LOCATION:
SUMMARY:Aachen 100\, 5 Arena (Tivoli Eissporthalle)
DESCRIPTION:Verkaufszeiten: 11.00 - 18.00 Uhr Aufbau: ab 07.00 Uhr Abbau: a
 b 17.00 Uhr   Toiletten:  Platzwahl: feste Plätze nach Lageplan (Lagepla
 n unter Infos & Preise NRW)   Preise: findest du auf unsere Homepage unter
  dem Punkt *Infos & Preise NRW* Platzvergabe: die Platzvergabe findet nur a
 m Tag der Veranstaltung statt[..]\nhttps://hoefges-troedelmarkt.com/events/
 aachen-1005-arena-tivoli-eissporthalle-15
URL:https://hoefges-troedelmarkt.com/events/aachen-1005-arena-tivoli-eissporthalle-15
END:VEVENT
END:VCALENDAR