BEGIN:VCALENDAR
VERSION:2.0
PRODID:-//eventon.com NONSGML v1.0//EN
CALSCALE:GREGORIAN
METHOD:PUBLISH
BEGIN:VEVENT
UID:69e7098beffd1
DTSTAMP:20260421T052219Z
DTSTART:20231230T060000Z
DTEND:20231230T130000Z
LOCATION:
SUMMARY:Aachen 100\, 5 Arena (Tivoli Eissporthalle)
DESCRIPTION:Verkaufszeiten: 11.00 - 18.00 Uhr Aufbau: ab 07.00 Uhr Abbau: a
 b 17.00 Uhr   Toiletten:  Platzwahl: feste Plätze nach Lageplan (Lagepla
 n unter Infos & Preise NRW)   Preise: findest du auf unsere Homepage unter
  dem Punkt *Infos & Preise NRW* Platzvergabe: die Platzvergabe findet nur a
 m Tag der Veranstaltung statt[..]\nhttps://hoefges-troedelmarkt.com/events/
 aachen-1005-arena-tivoli-eissporthalle-18
URL:https://hoefges-troedelmarkt.com/events/aachen-1005-arena-tivoli-eissporthalle-18
END:VEVENT
END:VCALENDAR