BEGIN:VCALENDAR
VERSION:2.0
PRODID:-//eventon.com NONSGML v1.0//EN
CALSCALE:GREGORIAN
METHOD:PUBLISH
BEGIN:VEVENT
UID:69e62676bbdb0
DTSTAMP:20260420T131326Z
DTSTART:20231022T050000Z
DTEND:20231022T120000Z
LOCATION:
SUMMARY:Berlin-Marienfelde METRO
DESCRIPTION:Verkaufszeiten: 07.00 - 14.00 Uhr Aufbau: ab 6.30 Uhr Abbau: be
 ginnt je nach Jahreszeit und Wetter in der Regel ab 18.00 Uhr   Toiletten:
  vorhanden   Platzwahl: feste Plätze nach Lageplan\,  nur 4 Meter Pauscha
 len buchbar   Marktbuden: können gegen Aufpreis dazu gebucht werden   Pl
 atzvergabe: am Vortag auf dem[..]\nhttps://hoefges-troedelmarkt.com/events/
 berlin-marienfelde-metro-10
URL:https://hoefges-troedelmarkt.com/events/berlin-marienfelde-metro-10
END:VEVENT
END:VCALENDAR