BEGIN:VCALENDAR
VERSION:2.0
PRODID:-//eventon.com NONSGML v1.0//EN
CALSCALE:GREGORIAN
METHOD:PUBLISH
BEGIN:VEVENT
UID:69e58ee425596
DTSTAMP:20260420T022644Z
DTSTART:20230820T050000Z
DTEND:20230820T120000Z
LOCATION:
SUMMARY:Berlin-Spandau METRO
DESCRIPTION:Verkaufszeiten: 7.00 - 14.00 Uhr Aufbau: ab 6.30 Uhr Abbau: beg
 innt je nach Wetterlage und Jahreszeit in der Regel ab 18.00 Uhr   Toilett
 en: vorhanden   Platzwahl: freie Platzwahl\,  nur 4 Meter Pauschalen buchb
 ar   Marktbuden: können gegen Aufpreis dazu gebucht werden   Platzvergab
 e: am Vortag auf dem Veranstaltungsgelände um[..]\nhttps://hoefges-troedel
 markt.com/events/berlin-spandau-metro
URL:https://hoefges-troedelmarkt.com/events/berlin-spandau-metro
END:VEVENT
END:VCALENDAR