BEGIN:VCALENDAR
VERSION:2.0
PRODID:-//eventon.com NONSGML v1.0//EN
CALSCALE:GREGORIAN
METHOD:PUBLISH
BEGIN:VEVENT
UID:69e55f7cd5b88
DTSTAMP:20260419T230428Z
DTSTART:20230820T050000Z
DTEND:20230820T120000Z
LOCATION:
SUMMARY:Berlin Steglitz OBI
DESCRIPTION:Verkaufszeiten: 07.00 – 14.00 Uhr Aufbau: ab 6.30 Uhr Abbau: 
 beginnt je nach Jahreszeit und Wetter in der Regel ab 14.00 Uhr   Toilette
 n: vorhanden   Platzwahl: feste Plätze nach Lageplan   Marktbuden: könn
 en gegen Aufpreis dazu gebucht werden   Platzvergabe: am Vortag auf dem Ve
 ranstaltungsgelände um 18.00 Uhr  [..]\nhttps://hoefges-troedelmarkt.com/
 events/berlin-steglitz-obi
URL:https://hoefges-troedelmarkt.com/events/berlin-steglitz-obi
END:VEVENT
END:VCALENDAR