BEGIN:VCALENDAR
VERSION:2.0
PRODID:-//eventon.com NONSGML v1.0//EN
CALSCALE:GREGORIAN
METHOD:PUBLISH
BEGIN:VEVENT
UID:69e545ea15941
DTSTAMP:20260419T211522Z
DTSTART:20230819T050000Z
DTEND:20230819T120000Z
LOCATION:
SUMMARY:Düsseldorf Benrath Schützenplatz
DESCRIPTION:Verkaufszeiten: 07.00 – 14.00 Uhr Aufbau: ab 06.00 Uhr Abbau:
  ab 14.00 Uhr Platzwahl: feste Plätze nach Lageplan (Lageplan unter Infos 
 & Preise NRW)   Preise: finden Sie auf unsere Homepage unter dem Punkt *In
 fos & Preise NRW* Dachbereich: nicht überdacht\nhttps://hoefges-troedelmar
 kt.com/events/duesseldorf-benrath-schuetzenplatz
URL:https://hoefges-troedelmarkt.com/events/duesseldorf-benrath-schuetzenplatz
END:VEVENT
END:VCALENDAR