BEGIN:VCALENDAR
VERSION:2.0
PRODID:-//eventon.com NONSGML v1.0//EN
CALSCALE:GREGORIAN
METHOD:PUBLISH
BEGIN:VEVENT
UID:69e52abf9bda3
DTSTAMP:20260419T191927Z
DTSTART:20230819T050000Z
DTEND:20230819T120000Z
LOCATION:
SUMMARY:Krefeld Grotenburg Stadion
DESCRIPTION:Verkaufszeiten: 7.00 - 14.00 Uhr Aufbau: ab 07.00 Uhr Abbau: ab
  14.00 Uhr   Toiletten: feste Toiletten (KFC Uerdingen I Eingang Stadion) 
 Platzwahl: feste Plätze nach Lageplan (Lageplan unter Infos & Preise NRW) 
   Preise: finden Sie auf unsere Homepage unter dem Punkt *Infos & Preise N
 RW* Dachbereich: nicht überdacht\nhttps://hoefges-troedelmarkt.com/events/
 krefeld-grotenburg-stadion
URL:https://hoefges-troedelmarkt.com/events/krefeld-grotenburg-stadion
END:VEVENT
END:VCALENDAR