BEGIN:VCALENDAR
VERSION:2.0
PRODID:-//eventon.com NONSGML v1.0//EN
CALSCALE:GREGORIAN
METHOD:PUBLISH
BEGIN:VEVENT
UID:69e50ea25f2ee
DTSTAMP:20260419T171930Z
DTSTART:20230819T050000Z
DTEND:20230819T120000Z
LOCATION:
SUMMARY:Bochum Uni
DESCRIPTION:Verkaufszeiten: 7.00 – 14.00 Uhr Aufbau: ab 06.00 Uhr Abbau: 
 ab 14.00 Uhr   Toiletten: findest du in der Reihe 1 Platzwahl: feste Plät
 ze nach Lageplan (Lageplan unter Infos & Preise NRW) Preise: findest du auf
  unsere Homepage unter dem Punkt *Infos & Preise NRW* Platzvergabe: die Pla
 tzvergabe findet nur[..]\nhttps://hoefges-troedelmarkt.com/events/bochum-un
 i
URL:https://hoefges-troedelmarkt.com/events/bochum-uni
END:VEVENT
END:VCALENDAR