BEGIN:VCALENDAR
VERSION:2.0
PRODID:-//eventon.com NONSGML v1.0//EN
CALSCALE:GREGORIAN
METHOD:PUBLISH
BEGIN:VEVENT
UID:69e4f547be323
DTSTAMP:20260419T153119Z
DTSTART:20230820T090000Z
DTEND:20230820T160000Z
LOCATION:
SUMMARY:Tönisvorst GLOBUS ehem. real\, -
DESCRIPTION:Verkaufszeiten: 11.00 - 18.00 Uhr Aufbau: ab 7.00 Uhr Abbau: ab
  17.00 Uhr   Toiletten: fester Toilettenwagen (vor dem linken Ausgang von 
 real\, -)   Platzwahl: feste Plätze nach Lageplan (Lageplan unter Infos &
  Preise NRW)   Platzvergabe: am Vortag auf dem Veranstaltungsgelände um 1
 6.00 Uhr\,  Reihe 17    Dachbereich: großflächig[..]\nhttps://hoefges-t
 roedelmarkt.com/events/bochum-uni-sonntag
URL:https://hoefges-troedelmarkt.com/events/bochum-uni-sonntag
END:VEVENT
END:VCALENDAR