BEGIN:VCALENDAR
VERSION:2.0
PRODID:-//eventon.com NONSGML v1.0//EN
CALSCALE:GREGORIAN
METHOD:PUBLISH
BEGIN:VEVENT
UID:69e4de024c921
DTSTAMP:20260419T135202Z
DTSTART:20230910T090000Z
DTEND:20230910T160000Z
LOCATION:
SUMMARY:Wuppertal-Barmen Parkplatz hinter dem Rathaus
DESCRIPTION:Verkaufszeiten: 11.00 - 18.00 Uhr Aufbau: ab 7.00 Uhr Abbau: ab
  17.00 Uhr   Toiletten: 2x Dixi Kabinen gegenüber Reihe 16   Platzwahl: 
 feste Plätze nach Lageplan (Lageplan unter: Infos & Preise NRW)   Platzve
 rgabe: am Vortag auf dem Veranstaltungsgelände um 16.00 Uhr   Dachbereich
 : teilweise überdacht - Unterführung  [..]\nhttps://hoefges-troedelmarkt
 .com/events/wuppertal-barmen-parkplatz-hinter-dem-rathaus
URL:https://hoefges-troedelmarkt.com/events/wuppertal-barmen-parkplatz-hinter-dem-rathaus
END:VEVENT
END:VCALENDAR