BEGIN:VCALENDAR
VERSION:2.0
PRODID:-//eventon.com NONSGML v1.0//EN
CALSCALE:GREGORIAN
METHOD:PUBLISH
BEGIN:VEVENT
UID:69e4f77d20010
DTSTAMP:20260419T154045Z
DTSTART:20230827T090000Z
DTEND:20230827T160000Z
LOCATION:
SUMMARY:Wuppertal real\, -
DESCRIPTION:Verkaufszeiten: 11.00 - 18.00 Uhr Aufbau: ab 7.00 Uhr Abbau: ab
  17.00 Uhr Toiletten: 2x Dixi Kabinen Reihe 20 hinter der Einfahrt zum Park
 deck Platzwahl: feste Plätze nach Lageplan (Lageplan unter: Infos & Preise
  NRW) Platzvergabe: am Vortag auf dem Veranstaltungsgelände um 16.00 Uhr\,
   an der Waschstraße Dachbereich: großflächig überdacht[..]\nhttps://ho
 efges-troedelmarkt.com/events/wuppertal-real-3
URL:https://hoefges-troedelmarkt.com/events/wuppertal-real-3
END:VEVENT
END:VCALENDAR