BEGIN:VCALENDAR
VERSION:2.0
PRODID:-//eventon.com NONSGML v1.0//EN
CALSCALE:GREGORIAN
METHOD:PUBLISH
BEGIN:VEVENT
UID:69e50fb065233
DTSTAMP:20260419T172400Z
DTSTART:20240111T100000Z
DTEND:20240111T170000Z
LOCATION:
SUMMARY:Krefeld Globus ehem. Markthalle
DESCRIPTION:ehem. Markthalle Verkaufszeiten: 11.00 - 18.00 Uhr Aufbau: ab 7
 .00 Uhr Abbau: ab 17.00 Uhr   Toiletten: Toilettenwagen (hinter Reihe 5 zu
 r Hafelsstraße)   Platzwahl: feste Plätze nach Lageplan (Lageplan unter 
 Infos & Preise NRW)   Platzvergabe: am Vortag auf dem Veranstaltungsgelän
 de um 16.00 Uhr\,  an der Waschstraße - Roter[..]\nhttps://hoefges-troedel
 markt.com/events/krefeld-globus-ehem-markthalle
URL:https://hoefges-troedelmarkt.com/events/krefeld-globus-ehem-markthalle
END:VEVENT
END:VCALENDAR