BEGIN:VCALENDAR
VERSION:2.0
PRODID:-//eventon.com NONSGML v1.0//EN
CALSCALE:GREGORIAN
METHOD:PUBLISH
BEGIN:VEVENT
UID:69e52a615d217
DTSTAMP:20260419T191753Z
DTSTART:20230827T090000Z
DTEND:20230827T160000Z
LOCATION:
SUMMARY:Krefeld METRO
DESCRIPTION:Verkaufszeiten: 11.00 - 18.00 Uhr Aufbau: ab 7.00 Uhr Abbau: ab
  17.00 Uhr Toiletten vorhanden Platzwahl: feste Plätze nach Lageplan (Lage
 plan unter: Infos & Preise NRW) Platzvergabe: am Vortag auf dem Veranstaltu
 ngsgelände um 16.00 Uhr Dachbereich: großflächig überdacht Preise: find
 en Sie auf unsere Homepage unter dem Punkt *Infos & Preise[..]\nhttps://hoe
 fges-troedelmarkt.com/events/krefeld-metro
URL:https://hoefges-troedelmarkt.com/events/krefeld-metro
END:VEVENT
END:VCALENDAR