BEGIN:VCALENDAR
VERSION:2.0
PRODID:-//eventon.com NONSGML v1.0//EN
CALSCALE:GREGORIAN
METHOD:PUBLISH
BEGIN:VEVENT
UID:69e543abb5deb
DTSTAMP:20260419T210547Z
DTSTART:20230903T090000Z
DTEND:20230903T160000Z
LOCATION:
SUMMARY:Krefeld Kaufland ehem. real\, -
DESCRIPTION:Verkaufszeiten: 11.00 - 18.00 Uhr Aufbau: ab 7.00 Uhr Abbau: ab
  17.00 Uhr Toiletten: fester Toilettenwagen (hinter Reihe 20) Platzwahl: fe
 ste Plätze nach Lageplan (Lageplan unter: Infos & Preise NRW) Platzvergabe
 : am Vortag auf dem Veranstaltungsgelände um 16.00 Uhr\,  Reihe 23 mittig 
 Dachbereich: großflächig überdacht Preise: finden Sie unter dem[..]\nhtt
 ps://hoefges-troedelmarkt.com/events/krefeld-kaufland-ehem-real
URL:https://hoefges-troedelmarkt.com/events/krefeld-kaufland-ehem-real
END:VEVENT
END:VCALENDAR