BEGIN:VCALENDAR
VERSION:2.0
PRODID:-//eventon.com NONSGML v1.0//EN
CALSCALE:GREGORIAN
METHOD:PUBLISH
BEGIN:VEVENT
UID:69e55e29d7c8c
DTSTAMP:20260419T225849Z
DTSTART:20231003T090000Z
DTEND:20231003T160000Z
LOCATION:
SUMMARY:Krefeld MagdeburgerstraÃŸe
DESCRIPTION:REWE Parkplatz - VERKAUF AB 13 UHR Verkaufszeiten: 13.00 - 18.0
 0 Uhr Aufbau: ab 7.00 Uhr Abbau: ab 17.00 Uhr Â  Toiletten: ToilettenwagenÂ
   Â  Platzwahl: feste PlÃ¤tze nach Lageplan (Lageplan unter Infos & Preise 
 NRW) Â  Platzvergabe: am Vortag auf dem VeranstaltungsgelÃ¤nde um 16.00 Uhr
  Â  Dachbereich: nicht vorhanden Â [..]\nhttps://hoefges-troedelmarkt.com/e
 vents/krefeld-magdeburgerstrasse
URL:https://hoefges-troedelmarkt.com/events/krefeld-magdeburgerstrasse
END:VEVENT
END:VCALENDAR