BEGIN:VCALENDAR
VERSION:2.0
PRODID:-//eventon.com NONSGML v1.0//EN
CALSCALE:GREGORIAN
METHOD:PUBLISH
BEGIN:VEVENT
UID:69e575e31c4b7
DTSTAMP:20260420T004003Z
DTSTART:20231022T090000Z
DTEND:20231022T160000Z
LOCATION:
SUMMARY:Kempen OBI
DESCRIPTION:Verkaufszeiten: 11.00 - 18.00 Uhr Aufbau: ab 7.00 Uhr Abbau: ab
  17.00 Uhr Toiletten: Toilettenwagen Platzwahl: feste Plätze nach Lageplan
  (Lageplan unter: Infos & Preise NRW ) Platzvergabe: am Vortag auf dem Vera
 nstaltungsgelände um 16.00 Uhr\,  mittig auf dem Parkplatz - s. Transporte
 r orange Rundumleuchte Dachbereich: nicht überdacht Preise: finden[..]\nht
 tps://hoefges-troedelmarkt.com/events/kempen-obi
URL:https://hoefges-troedelmarkt.com/events/kempen-obi
END:VEVENT
END:VCALENDAR