BEGIN:VCALENDAR
VERSION:2.0
PRODID:-//eventon.com NONSGML v1.0//EN
CALSCALE:GREGORIAN
METHOD:PUBLISH
BEGIN:VEVENT
UID:69e58f3b3532f
DTSTAMP:20260420T022811Z
DTSTART:20230903T090000Z
DTEND:20230903T160000Z
LOCATION:
SUMMARY:Marl tedox
DESCRIPTION:Verkaufszeiten: 11.00 - 18.00 Uhr Aufbau: ab 7.00 Uhr Abbau: ab
  17.00 Uhr   Toiletten: 2 x Dixi-Kabinen im Wendehammer   Platzwahl: fest
 e Plätze nach Lageplan (Lageplan unter Infos & Preise NRW)   Platzvergabe
 : am Vortag auf dem Veranstaltungsgelände um 16.00 Uhr\,  Weißer Fordbus 
 mit oranger Rundumleuchte - Reihe 1[..]\nhttps://hoefges-troedelmarkt.com/e
 vents/marl-tedox
URL:https://hoefges-troedelmarkt.com/events/marl-tedox
END:VEVENT
END:VCALENDAR