BEGIN:VCALENDAR
VERSION:2.0
PRODID:-//eventon.com NONSGML v1.0//EN
CALSCALE:GREGORIAN
METHOD:PUBLISH
BEGIN:VEVENT
UID:69e5ad4b2a924
DTSTAMP:20260420T043627Z
DTSTART:20231003T090000Z
DTEND:20231003T160000Z
LOCATION:
SUMMARY:Roller Mönchengladbach
DESCRIPTION:Verkaufszeiten: 11.00 - 18.00 Uhr Aufbau: ab 7.00 Uhr Abbau: ab
  17.00 Uhr Platzwahl: feste Plätze nach Lageplan (Lageplan unter: Infos & 
 Preise NRW) Platzvergabe: am Vortag auf dem Veranstaltungsgelände um 16.00
  Uhr Dachbereich: nicht vorhanden Preise: finden Sie unter dem Punkt *Infos
  & Preise NRW*\nhttps://hoefges-troedelmarkt.com/events/roller-moenchenglad
 bach-2
URL:https://hoefges-troedelmarkt.com/events/roller-moenchengladbach-2
END:VEVENT
END:VCALENDAR