BEGIN:VCALENDAR
VERSION:2.0
PRODID:-//eventon.com NONSGML v1.0//EN
CALSCALE:GREGORIAN
METHOD:PUBLISH
BEGIN:VEVENT
UID:69e5c4fa42a57
DTSTAMP:20260420T061730Z
DTSTART:20231112T100000Z
DTEND:20231112T170000Z
LOCATION:
SUMMARY:Duisburg Metro
DESCRIPTION:Verkaufszeiten: 11.00 - 18.00 Uhr Aufbau: ab 7.00 Uhr Abbau: ab
  17.00 Uhr   Toiletten: fester Toilettenwagen    Platzwahl: feste Plätz
 e nach Lageplan (Lageplan unter Infos & Preise NRW)   Platzvergabe: am Vor
 tag auf dem Veranstaltungsgelände um 16.00 Uhr   Dachbereich: großfläch
 ig übedacht   Preise: finden Sie auf unsere Homepage[..]\nhttps://hoefges
 -troedelmarkt.com/events/duisburg-metro
URL:https://hoefges-troedelmarkt.com/events/duisburg-metro
END:VEVENT
END:VCALENDAR